BEGIN:VCALENDAR
VERSION:2.0
PRODID:-//Aleut Corporation - ECPv6.15.17.1//NONSGML v1.0//EN
CALSCALE:GREGORIAN
METHOD:PUBLISH
X-WR-CALNAME:Aleut Corporation
X-ORIGINAL-URL:https://aleutcorp.com
X-WR-CALDESC:Events for Aleut Corporation
REFRESH-INTERVAL;VALUE=DURATION:PT1H
X-Robots-Tag:noindex
X-PUBLISHED-TTL:PT1H
BEGIN:VTIMEZONE
TZID:America/Anchorage
BEGIN:DAYLIGHT
TZOFFSETFROM:-0900
TZOFFSETTO:-0800
TZNAME:AKDT
DTSTART:20270314T110000
END:DAYLIGHT
BEGIN:STANDARD
TZOFFSETFROM:-0800
TZOFFSETTO:-0900
TZNAME:AKST
DTSTART:20271107T100000
END:STANDARD
BEGIN:DAYLIGHT
TZOFFSETFROM:-0900
TZOFFSETTO:-0800
TZNAME:AKDT
DTSTART:20280312T110000
END:DAYLIGHT
BEGIN:STANDARD
TZOFFSETFROM:-0800
TZOFFSETTO:-0900
TZNAME:AKST
DTSTART:20281105T100000
END:STANDARD
BEGIN:DAYLIGHT
TZOFFSETFROM:-0900
TZOFFSETTO:-0800
TZNAME:AKDT
DTSTART:20290311T110000
END:DAYLIGHT
BEGIN:STANDARD
TZOFFSETFROM:-0800
TZOFFSETTO:-0900
TZNAME:AKST
DTSTART:20291104T100000
END:STANDARD
BEGIN:DAYLIGHT
TZOFFSETFROM:-0900
TZOFFSETTO:-0800
TZNAME:AKDT
DTSTART:20300310T110000
END:DAYLIGHT
BEGIN:STANDARD
TZOFFSETFROM:-0800
TZOFFSETTO:-0900
TZNAME:AKST
DTSTART:20301103T100000
END:STANDARD
END:VTIMEZONE
BEGIN:VTIMEZONE
TZID:America/Anchorage
BEGIN:DAYLIGHT
TZOFFSETFROM:-0900
TZOFFSETTO:-0800
TZNAME:AKDT
DTSTART:20280312T110000
END:DAYLIGHT
BEGIN:STANDARD
TZOFFSETFROM:-0800
TZOFFSETTO:-0900
TZNAME:AKST
DTSTART:20281105T100000
END:STANDARD
BEGIN:DAYLIGHT
TZOFFSETFROM:-0900
TZOFFSETTO:-0800
TZNAME:AKDT
DTSTART:20290311T110000
END:DAYLIGHT
BEGIN:STANDARD
TZOFFSETFROM:-0800
TZOFFSETTO:-0900
TZNAME:AKST
DTSTART:20291104T100000
END:STANDARD
BEGIN:DAYLIGHT
TZOFFSETFROM:-0900
TZOFFSETTO:-0800
TZNAME:AKDT
DTSTART:20300310T110000
END:DAYLIGHT
BEGIN:STANDARD
TZOFFSETFROM:-0800
TZOFFSETTO:-0900
TZNAME:AKST
DTSTART:20301103T100000
END:STANDARD
END:VTIMEZONE
BEGIN:VEVENT
DTSTART;VALUE=DATE:20281225
DTEND;VALUE=DATE:20281226
DTSTAMP:20260425T060026
CREATED:20230816T195040Z
LAST-MODIFIED:20240723T214629Z
UID:10000080-1861315200-1861401599@aleutcorp.com
SUMMARY:Christmas Day - Aleut Offices Closed
DESCRIPTION:
URL:https://aleutcorp.com/calendar/christmas-day/2028-12-25/
LOCATION:WA
CATEGORIES:Holidays
END:VEVENT
BEGIN:VEVENT
DTSTART;VALUE=DATE:20281231
DTEND;VALUE=DATE:20290101
DTSTAMP:20260425T060026
CREATED:20230816T195138Z
LAST-MODIFIED:20240723T214048Z
UID:10000076-1861833600-1861919999@aleutcorp.com
SUMMARY:New Year's Eve
DESCRIPTION:
URL:https://aleutcorp.com/calendar/new-years-eve/2028-12-31/
LOCATION:WA
CATEGORIES:Holidays
END:VEVENT
BEGIN:VEVENT
DTSTART;VALUE=DATE:20290101
DTEND;VALUE=DATE:20290102
DTSTAMP:20260425T060026
CREATED:20241105T182336Z
LAST-MODIFIED:20241108T171839Z
UID:10000135-1861920000-1862006399@aleutcorp.com
SUMMARY:New Year's Day - Aleut Office Closed
DESCRIPTION:
URL:https://aleutcorp.com/calendar/new-years-day-aleut-office-closed/2029-01-01/
LOCATION:The Aleut Corporation\, 2550 Denali St.\, Ste. 1050\, Anchorage\, AK\, 99503\, United States
CATEGORIES:Holidays
END:VEVENT
BEGIN:VEVENT
DTSTART;VALUE=DATE:20290107
DTEND;VALUE=DATE:20290108
DTSTAMP:20260425T060026
CREATED:20241105T182632Z
LAST-MODIFIED:20241108T171636Z
UID:10000131-1862438400-1862524799@aleutcorp.com
SUMMARY:Orthodox Christmas
DESCRIPTION:
URL:https://aleutcorp.com/calendar/orthodox-christmas/2029-01-07/
LOCATION:WA
CATEGORIES:Holidays
END:VEVENT
BEGIN:VEVENT
DTSTART;VALUE=DATE:20290114
DTEND;VALUE=DATE:20290115
DTSTAMP:20260425T060026
CREATED:20241105T182736Z
LAST-MODIFIED:20241108T171548Z
UID:10000127-1863043200-1863129599@aleutcorp.com
SUMMARY:Orthodox New Year's
DESCRIPTION:
URL:https://aleutcorp.com/calendar/orthodox-new-years/2029-01-14/
LOCATION:WA
CATEGORIES:Holidays
END:VEVENT
BEGIN:VEVENT
DTSTART;VALUE=DATE:20290115
DTEND;VALUE=DATE:20290116
DTSTAMP:20260425T060026
CREATED:20241105T190550Z
LAST-MODIFIED:20241108T171500Z
UID:10000123-1863129600-1863215999@aleutcorp.com
SUMMARY:Martin Luther King Day
DESCRIPTION:
URL:https://aleutcorp.com/calendar/martin-luther-king-day/2029-01-15/
LOCATION:WA
CATEGORIES:Holidays
END:VEVENT
BEGIN:VEVENT
DTSTART;VALUE=DATE:20290202
DTEND;VALUE=DATE:20290203
DTSTAMP:20260425T060026
CREATED:20241108T165805Z
LAST-MODIFIED:20241108T171233Z
UID:10000119-1864684800-1864771199@aleutcorp.com
SUMMARY:Groundhog Day
DESCRIPTION:
URL:https://aleutcorp.com/calendar/groundhog-day/2029-02-02/
LOCATION:WA
CATEGORIES:Holidays
END:VEVENT
BEGIN:VEVENT
DTSTART;VALUE=DATE:20290212
DTEND;VALUE=DATE:20290213
DTSTAMP:20260425T060026
CREATED:20241108T165852Z
LAST-MODIFIED:20241108T172040Z
UID:10000140-1865548800-1865635199@aleutcorp.com
SUMMARY:Lincoln's Birthday
DESCRIPTION:
URL:https://aleutcorp.com/calendar/lincolns-birthday-2/2029-02-12/
LOCATION:WA
CATEGORIES:Holidays
END:VEVENT
BEGIN:VEVENT
DTSTART;VALUE=DATE:20290214
DTEND;VALUE=DATE:20290215
DTSTAMP:20260425T060026
CREATED:20241108T165942Z
LAST-MODIFIED:20241108T173241Z
UID:10000145-1865721600-1865807999@aleutcorp.com
SUMMARY:Valentine's Day
DESCRIPTION:
URL:https://aleutcorp.com/calendar/valentines-day-2/2029-02-14/
LOCATION:WA
CATEGORIES:Holidays
END:VEVENT
BEGIN:VEVENT
DTSTART;VALUE=DATE:20290216
DTEND;VALUE=DATE:20290217
DTSTAMP:20260425T060026
CREATED:20241108T170149Z
LAST-MODIFIED:20241108T174144Z
UID:10000155-1865894400-1865980799@aleutcorp.com
SUMMARY:Elizabeth Peratrovich Day
DESCRIPTION:
URL:https://aleutcorp.com/calendar/elizabeth-peratrovich-day-2/2029-02-16/
LOCATION:WA
CATEGORIES:Holidays
END:VEVENT
BEGIN:VEVENT
DTSTART;VALUE=DATE:20290219
DTEND;VALUE=DATE:20290220
DTSTAMP:20260425T060026
CREATED:20241108T175057Z
LAST-MODIFIED:20241108T175057Z
UID:10000170-1866153600-1866239999@aleutcorp.com
SUMMARY:Presidents Day - Aleut Offices Closed
DESCRIPTION:
URL:https://aleutcorp.com/calendar/presidents-day-aleut-offices-closed/2029-02-19/
LOCATION:The Aleut Corporation\, 2550 Denali St.\, Ste. 1050\, Anchorage\, AK\, 99503\, United States
END:VEVENT
BEGIN:VEVENT
DTSTART;VALUE=DATE:20290308
DTEND;VALUE=DATE:20290309
DTSTAMP:20260425T060026
CREATED:20241108T174315Z
LAST-MODIFIED:20241108T174315Z
UID:10000160-1867622400-1867705199@aleutcorp.com
SUMMARY:International Women's Day
DESCRIPTION:
URL:https://aleutcorp.com/calendar/international-womens-day-2/2029-03-08/
LOCATION:WA
CATEGORIES:Holidays
END:VEVENT
BEGIN:VEVENT
DTSTART;VALUE=DATE:20290311
DTEND;VALUE=DATE:20290312
DTSTAMP:20260425T060026
CREATED:20241108T174529Z
LAST-MODIFIED:20241108T174529Z
UID:10000165-1867881600-1867964399@aleutcorp.com
SUMMARY:Daylight Savings Begins (Spring Forward)
DESCRIPTION:
URL:https://aleutcorp.com/calendar/daylight-savings-begins-spring-forward-2/2029-03-11/
LOCATION:WA
CATEGORIES:Holidays
END:VEVENT
BEGIN:VEVENT
DTSTART;VALUE=DATE:20290317
DTEND;VALUE=DATE:20290318
DTSTAMP:20260425T060026
CREATED:20241108T175311Z
LAST-MODIFIED:20241108T175311Z
UID:10000175-1868400000-1868486399@aleutcorp.com
SUMMARY:St. Patrick's Day
DESCRIPTION:
URL:https://aleutcorp.com/calendar/st-patricks-day-2/2029-03-17/
LOCATION:WA
CATEGORIES:Holidays
END:VEVENT
BEGIN:VEVENT
DTSTART;VALUE=DATE:20290401
DTEND;VALUE=DATE:20290402
DTSTAMP:20260425T060026
CREATED:20241108T183820Z
LAST-MODIFIED:20241108T183844Z
UID:10000185-1869696000-1869782399@aleutcorp.com
SUMMARY:April Fool's Day
DESCRIPTION:
URL:https://aleutcorp.com/calendar/april-fools-day-2/2029-04-01/
LOCATION:WA
CATEGORIES:Holidays
END:VEVENT
BEGIN:VEVENT
DTSTART;VALUE=DATE:20290528
DTEND;VALUE=DATE:20290529
DTSTAMP:20260425T060026
CREATED:20241114T180152Z
LAST-MODIFIED:20241114T191410Z
UID:10000203-1874620800-1874707199@aleutcorp.com
SUMMARY:Memorial Day - Aleut Offices Closed
DESCRIPTION:
URL:https://aleutcorp.com/calendar/memorial-day-aleut-offices-closed/2029-05-28/
LOCATION:The Aleut Corporation\, 2550 Denali St.\, Ste. 1050\, Anchorage\, AK\, 99503\, United States
CATEGORIES:Holidays
END:VEVENT
BEGIN:VEVENT
DTSTART;VALUE=DATE:20290619
DTEND;VALUE=DATE:20290620
DTSTAMP:20260425T060026
CREATED:20241114T181003Z
LAST-MODIFIED:20241114T181003Z
UID:10000210-1876521600-1876607999@aleutcorp.com
SUMMARY:Juneteenth
DESCRIPTION:
URL:https://aleutcorp.com/calendar/juneteenth-2/2029-06-19/
LOCATION:WA
CATEGORIES:Holidays
END:VEVENT
BEGIN:VEVENT
DTSTART;VALUE=DATE:20290704
DTEND;VALUE=DATE:20290705
DTSTAMP:20260425T060026
CREATED:20240408T190816Z
LAST-MODIFIED:20240723T215628Z
UID:10000097-1877817600-1877903999@aleutcorp.com
SUMMARY:Independence Day - Aleut Offices Closed
DESCRIPTION:
URL:https://aleutcorp.com/calendar/independence-day-tac-offices-closed/2029-07-04/
LOCATION:The Aleut Corporation\, 2550 Denali St.\, Ste. 1050\, Anchorage\, AK\, 99503\, United States
CATEGORIES:Events
END:VEVENT
BEGIN:VEVENT
DTSTART;VALUE=DATE:20290903
DTEND;VALUE=DATE:20290904
DTSTAMP:20260425T060026
CREATED:20230627T075907Z
LAST-MODIFIED:20240723T215401Z
UID:10000288-1883088000-1883174399@aleutcorp.com
SUMMARY:Labor Day - Aleut Offices Closed
DESCRIPTION:
URL:https://aleutcorp.com/calendar/labor-day/2029-09-03/
LOCATION:The Aleut Corporation\, 2550 Denali St.\, Ste. 1050\, Anchorage\, AK\, 99503\, United States
CATEGORIES:Holidays
END:VEVENT
BEGIN:VEVENT
DTSTART;VALUE=DATE:20290903
DTEND;VALUE=DATE:20290904
DTSTAMP:20260425T060026
CREATED:20241114T193822Z
LAST-MODIFIED:20241114T193822Z
UID:10000233-1883088000-1883174399@aleutcorp.com
SUMMARY:Labor Day - Aleut Offices Closed
DESCRIPTION:
URL:https://aleutcorp.com/calendar/labor-day-aleut-offices-closed/2029-09-03/
LOCATION:The Aleut Corporation\, 2550 Denali St.\, Ste. 1050\, Anchorage\, AK\, 99503\, United States
CATEGORIES:Holidays
END:VEVENT
BEGIN:VEVENT
DTSTART;VALUE=DATE:20290911
DTEND;VALUE=DATE:20290912
DTSTAMP:20260425T060026
CREATED:20230816T190838Z
LAST-MODIFIED:20240723T215339Z
UID:10000289-1883779200-1883865599@aleutcorp.com
SUMMARY:Patriot Day
DESCRIPTION:
URL:https://aleutcorp.com/calendar/patriot-day/2029-09-11/
LOCATION:WA
CATEGORIES:Holidays
END:VEVENT
BEGIN:VEVENT
DTSTART;VALUE=DATE:20291008
DTEND;VALUE=DATE:20291009
DTSTAMP:20260425T060026
CREATED:20241114T195459Z
LAST-MODIFIED:20241114T195459Z
UID:10000250-1886112000-1886198399@aleutcorp.com
SUMMARY:Indigenous Peoples' Day - Aleut Offices Closed
DESCRIPTION:
URL:https://aleutcorp.com/calendar/indigenous-peoples-day-aleut-offices-closed/2029-10-08/
LOCATION:The Aleut Corporation\, 2550 Denali St.\, Ste. 1050\, Anchorage\, AK\, 99503\, United States
CATEGORIES:Holidays
END:VEVENT
BEGIN:VEVENT
DTSTART;VALUE=DATE:20291018
DTEND;VALUE=DATE:20291019
DTSTAMP:20260425T060026
CREATED:20241114T200332Z
LAST-MODIFIED:20241114T200332Z
UID:10000256-1886976000-1887062399@aleutcorp.com
SUMMARY:Alaska Day
DESCRIPTION:
URL:https://aleutcorp.com/calendar/alaska-day-2/2029-10-18/
LOCATION:WA
CATEGORIES:Holidays
END:VEVENT
BEGIN:VEVENT
DTSTART;VALUE=DATE:20291031
DTEND;VALUE=DATE:20291101
DTSTAMP:20260425T060026
CREATED:20230816T192639Z
LAST-MODIFIED:20240723T215151Z
UID:10000291-1888099200-1888185599@aleutcorp.com
SUMMARY:Halloween
DESCRIPTION:
URL:https://aleutcorp.com/calendar/halloween/2029-10-31/
LOCATION:WA
CATEGORIES:Holidays
END:VEVENT
BEGIN:VEVENT
DTSTART;VALUE=DATE:20291104
DTEND;VALUE=DATE:20291105
DTSTAMP:20260425T060026
CREATED:20241114T200628Z
LAST-MODIFIED:20241114T200628Z
UID:10000261-1888444800-1888531199@aleutcorp.com
SUMMARY:Daylight Savings Ends (Fall Back)
DESCRIPTION:
URL:https://aleutcorp.com/calendar/daylight-savings-ends-fall-back/2029-11-04/
LOCATION:WA
CATEGORIES:Events
END:VEVENT
BEGIN:VEVENT
DTSTART;VALUE=DATE:20291111
DTEND;VALUE=DATE:20291112
DTSTAMP:20260425T060026
CREATED:20241114T200717Z
LAST-MODIFIED:20241114T200730Z
UID:10000266-1889049600-1889135999@aleutcorp.com
SUMMARY:Veterans Day - Aleut Offices Closed
DESCRIPTION:
URL:https://aleutcorp.com/calendar/veterans-day-aleut-offices-closed/2029-11-11/
LOCATION:The Aleut Corporation\, 2550 Denali St.\, Ste. 1050\, Anchorage\, AK\, 99503\, United States
CATEGORIES:Holidays
END:VEVENT
BEGIN:VEVENT
DTSTART;VALUE=DATE:20291122
DTEND;VALUE=DATE:20291123
DTSTAMP:20260425T060026
CREATED:20230816T192843Z
LAST-MODIFIED:20240723T215743Z
UID:10000292-1890000000-1890086399@aleutcorp.com
SUMMARY:Thanksgiving - Aleut Offices Closed
DESCRIPTION:Aleut Offices Closed Thursday 11/28 – Friday 11/29.
URL:https://aleutcorp.com/calendar/thanksgiving/2029-11-22/
LOCATION:WA
CATEGORIES:Holidays
END:VEVENT
END:VCALENDAR