BEGIN:VCALENDAR
VERSION:2.0
PRODID:-//Aleut Corporation - ECPv6.15.17.1//NONSGML v1.0//EN
CALSCALE:GREGORIAN
METHOD:PUBLISH
X-ORIGINAL-URL:https://aleutcorp.com
X-WR-CALDESC:Events for Aleut Corporation
REFRESH-INTERVAL;VALUE=DURATION:PT1H
X-Robots-Tag:noindex
X-PUBLISHED-TTL:PT1H
BEGIN:VTIMEZONE
TZID:America/Anchorage
BEGIN:DAYLIGHT
TZOFFSETFROM:-0900
TZOFFSETTO:-0800
TZNAME:AKDT
DTSTART:20240310T110000
END:DAYLIGHT
BEGIN:STANDARD
TZOFFSETFROM:-0800
TZOFFSETTO:-0900
TZNAME:AKST
DTSTART:20241103T100000
END:STANDARD
BEGIN:DAYLIGHT
TZOFFSETFROM:-0900
TZOFFSETTO:-0800
TZNAME:AKDT
DTSTART:20250309T110000
END:DAYLIGHT
BEGIN:STANDARD
TZOFFSETFROM:-0800
TZOFFSETTO:-0900
TZNAME:AKST
DTSTART:20251102T100000
END:STANDARD
BEGIN:DAYLIGHT
TZOFFSETFROM:-0900
TZOFFSETTO:-0800
TZNAME:AKDT
DTSTART:20260308T110000
END:DAYLIGHT
BEGIN:STANDARD
TZOFFSETFROM:-0800
TZOFFSETTO:-0900
TZNAME:AKST
DTSTART:20261101T100000
END:STANDARD
END:VTIMEZONE
BEGIN:VTIMEZONE
TZID:America/Anchorage
BEGIN:DAYLIGHT
TZOFFSETFROM:-0900
TZOFFSETTO:-0800
TZNAME:AKDT
DTSTART:20240310T110000
END:DAYLIGHT
BEGIN:STANDARD
TZOFFSETFROM:-0800
TZOFFSETTO:-0900
TZNAME:AKST
DTSTART:20241103T100000
END:STANDARD
BEGIN:DAYLIGHT
TZOFFSETFROM:-0900
TZOFFSETTO:-0800
TZNAME:AKDT
DTSTART:20250309T110000
END:DAYLIGHT
BEGIN:STANDARD
TZOFFSETFROM:-0800
TZOFFSETTO:-0900
TZNAME:AKST
DTSTART:20251102T100000
END:STANDARD
BEGIN:DAYLIGHT
TZOFFSETFROM:-0900
TZOFFSETTO:-0800
TZNAME:AKDT
DTSTART:20260308T110000
END:DAYLIGHT
BEGIN:STANDARD
TZOFFSETFROM:-0800
TZOFFSETTO:-0900
TZNAME:AKST
DTSTART:20261101T100000
END:STANDARD
BEGIN:DAYLIGHT
TZOFFSETFROM:-0900
TZOFFSETTO:-0800
TZNAME:AKDT
DTSTART:20270314T110000
END:DAYLIGHT
BEGIN:STANDARD
TZOFFSETFROM:-0800
TZOFFSETTO:-0900
TZNAME:AKST
DTSTART:20271107T100000
END:STANDARD
END:VTIMEZONE
BEGIN:VEVENT
DTSTART;VALUE=DATE:20250901
DTEND;VALUE=DATE:20250902
DTSTAMP:20260423T160244
CREATED:20230627T075907Z
LAST-MODIFIED:20240723T215401Z
UID:10000089-1756684800-1756771199@aleutcorp.com
SUMMARY:Labor Day - Aleut Offices Closed
DESCRIPTION:
URL:https://aleutcorp.com/calendar/labor-day/2025-09-01/
LOCATION:The Aleut Corporation\, 2550 Denali St.\, Ste. 1050\, Anchorage\, AK\, 99503\, United States
CATEGORIES:Holidays
END:VEVENT
BEGIN:VEVENT
DTSTART;VALUE=DATE:20250901
DTEND;VALUE=DATE:20250902
DTSTAMP:20260423T160244
CREATED:20241114T193822Z
LAST-MODIFIED:20241114T193822Z
UID:10000229-1756684800-1756771199@aleutcorp.com
SUMMARY:Labor Day - Aleut Offices Closed
DESCRIPTION:
URL:https://aleutcorp.com/calendar/labor-day-aleut-offices-closed/2025-09-01/
LOCATION:The Aleut Corporation\, 2550 Denali St.\, Ste. 1050\, Anchorage\, AK\, 99503\, United States
CATEGORIES:Holidays
END:VEVENT
BEGIN:VEVENT
DTSTART;VALUE=DATE:20250907
DTEND;VALUE=DATE:20250908
DTSTAMP:20260423T160244
CREATED:20241114T193947Z
LAST-MODIFIED:20241114T193947Z
UID:10000234-1757203200-1757289599@aleutcorp.com
SUMMARY:Grandparents' Day
DESCRIPTION:
URL:https://aleutcorp.com/calendar/grandparents-day-2/
LOCATION:WA
CATEGORIES:Holidays
END:VEVENT
BEGIN:VEVENT
DTSTART;VALUE=DATE:20250911
DTEND;VALUE=DATE:20250912
DTSTAMP:20260423T160244
CREATED:20230816T190838Z
LAST-MODIFIED:20240723T215339Z
UID:10000085-1757548800-1757635199@aleutcorp.com
SUMMARY:Patriot Day
DESCRIPTION:
URL:https://aleutcorp.com/calendar/patriot-day/2025-09-11/
LOCATION:WA
CATEGORIES:Holidays
END:VEVENT
BEGIN:VEVENT
DTSTART;VALUE=DATE:20250918
DTEND;VALUE=DATE:20250919
DTSTAMP:20260423T160244
CREATED:20241114T194429Z
LAST-MODIFIED:20250911T180250Z
UID:10000242-1758153600-1758239999@aleutcorp.com
SUMMARY:Update Addresses & Direct Deposit
DESCRIPTION:
URL:https://aleutcorp.com/calendar/update-addresses-direct-deposit-3/
LOCATION:WA
CATEGORIES:Events
END:VEVENT
BEGIN:VEVENT
DTSTART;VALUE=DATE:20250924
DTEND;VALUE=DATE:20250925
DTSTAMP:20260423T160244
CREATED:20241114T194205Z
LAST-MODIFIED:20241114T194205Z
UID:10000240-1758672000-1758758399@aleutcorp.com
SUMMARY:Early-Bird Deadline
DESCRIPTION:
URL:https://aleutcorp.com/calendar/early-bird-deadline-2/
LOCATION:WA
CATEGORIES:Events
END:VEVENT
BEGIN:VEVENT
DTSTART;VALUE=DATE:20250929
DTEND;VALUE=DATE:20250930
DTSTAMP:20260423T160244
CREATED:20241114T194300Z
LAST-MODIFIED:20250926T234259Z
UID:10000241-1759104000-1759190399@aleutcorp.com
SUMMARY:Early-Bird Winners Announced
DESCRIPTION:
URL:https://aleutcorp.com/calendar/early-bird-winners-announced/
LOCATION:WA
CATEGORIES:Events
END:VEVENT
BEGIN:VEVENT
DTSTART;VALUE=DATE:20251008
DTEND;VALUE=DATE:20251009
DTSTAMP:20260423T160244
CREATED:20241114T194629Z
LAST-MODIFIED:20241114T194629Z
UID:10000243-1759881600-1759967999@aleutcorp.com
SUMMARY:Proxy Deadline
DESCRIPTION:
URL:https://aleutcorp.com/calendar/proxy-deadline-2/
LOCATION:WA
CATEGORIES:Events
END:VEVENT
BEGIN:VEVENT
DTSTART;VALUE=DATE:20251009
DTEND;VALUE=DATE:20251011
DTSTAMP:20260423T160244
CREATED:20241114T195005Z
LAST-MODIFIED:20241114T195005Z
UID:10000244-1759968000-1760140799@aleutcorp.com
SUMMARY:Unangax̂ Communities Conference
DESCRIPTION:
URL:https://aleutcorp.com/calendar/unangax%cc%82-communities-conference-2/
LOCATION:WA
CATEGORIES:Events
END:VEVENT
BEGIN:VEVENT
DTSTART;TZID=America/Anchorage:20251009T160000
DTEND;TZID=America/Anchorage:20251009T180000
DTSTAMP:20260423T160244
CREATED:20250919T182629Z
LAST-MODIFIED:20251001T183844Z
UID:10000293-1760025600-1760032800@aleutcorp.com
SUMMARY:Aleut Open House
DESCRIPTION:Click HERE to RSVP.
URL:https://aleutcorp.com/calendar/aleut-open-house/
LOCATION:The Aleut Corporation\, 2550 Denali St.\, Ste. 1050\, Anchorage\, AK\, 99503\, United States
CATEGORIES:Events
ATTACH;FMTTYPE=image/png:https://aleutcorp.com/wp-content/uploads/2025/09/DT-OPEN-HOUSE-banner.png
END:VEVENT
BEGIN:VEVENT
DTSTART;VALUE=DATE:20251011
DTEND;VALUE=DATE:20251012
DTSTAMP:20260423T160244
CREATED:20241114T195331Z
LAST-MODIFIED:20241114T195331Z
UID:10000245-1760140800-1760227199@aleutcorp.com
SUMMARY:53rd Annual Meeting of Shareholders\, Downtown Marriot Hotel - Anchorage\, AK
DESCRIPTION:
URL:https://aleutcorp.com/calendar/53rd-annual-meeting-of-shareholders-downtown-marriot-hotel-anchorage-ak/
LOCATION:Private: Marriott Hotel\, 820 W 7th Ave\, Anchorage\, AK\, 99501\, United States
CATEGORIES:Annual Meeting
ORGANIZER;CN="The Aleut Corporation":MAILTO:info@aleutcorp.com
END:VEVENT
BEGIN:VEVENT
DTSTART;VALUE=DATE:20251013
DTEND;VALUE=DATE:20251014
DTSTAMP:20260423T160244
CREATED:20241114T195459Z
LAST-MODIFIED:20241114T195459Z
UID:10000246-1760313600-1760399999@aleutcorp.com
SUMMARY:Indigenous Peoples' Day - Aleut Offices Closed
DESCRIPTION:
URL:https://aleutcorp.com/calendar/indigenous-peoples-day-aleut-offices-closed/2025-10-13/
LOCATION:The Aleut Corporation\, 2550 Denali St.\, Ste. 1050\, Anchorage\, AK\, 99503\, United States
CATEGORIES:Holidays
END:VEVENT
BEGIN:VEVENT
DTSTART;VALUE=DATE:20251016
DTEND;VALUE=DATE:20251019
DTSTAMP:20260423T160244
CREATED:20241114T195727Z
LAST-MODIFIED:20241114T195727Z
UID:10000251-1760572800-1760831999@aleutcorp.com
SUMMARY:AFN Convention
DESCRIPTION:
URL:https://aleutcorp.com/calendar/afn-convention-2/
LOCATION:WA
CATEGORIES:Events
END:VEVENT
BEGIN:VEVENT
DTSTART;VALUE=DATE:20251018
DTEND;VALUE=DATE:20251019
DTSTAMP:20260423T160244
CREATED:20241114T200332Z
LAST-MODIFIED:20241114T200332Z
UID:10000252-1760745600-1760831999@aleutcorp.com
SUMMARY:Alaska Day
DESCRIPTION:
URL:https://aleutcorp.com/calendar/alaska-day-2/2025-10-18/
LOCATION:WA
CATEGORIES:Holidays
END:VEVENT
BEGIN:VEVENT
DTSTART;VALUE=DATE:20251031
DTEND;VALUE=DATE:20251101
DTSTAMP:20260423T160244
CREATED:20230816T192639Z
LAST-MODIFIED:20240723T215151Z
UID:10000081-1761868800-1761955199@aleutcorp.com
SUMMARY:Halloween
DESCRIPTION:
URL:https://aleutcorp.com/calendar/halloween/2025-10-31/
LOCATION:WA
CATEGORIES:Holidays
END:VEVENT
BEGIN:VEVENT
DTSTART;VALUE=DATE:20251102
DTEND;VALUE=DATE:20251103
DTSTAMP:20260423T160244
CREATED:20241114T200628Z
LAST-MODIFIED:20241114T200628Z
UID:10000257-1762041600-1762127999@aleutcorp.com
SUMMARY:Daylight Savings Ends (Fall Back)
DESCRIPTION:
URL:https://aleutcorp.com/calendar/daylight-savings-ends-fall-back/2025-11-02/
LOCATION:WA
CATEGORIES:Events
END:VEVENT
BEGIN:VEVENT
DTSTART;VALUE=DATE:20251111
DTEND;VALUE=DATE:20251112
DTSTAMP:20260423T160244
CREATED:20241114T200717Z
LAST-MODIFIED:20241114T200730Z
UID:10000262-1762819200-1762905599@aleutcorp.com
SUMMARY:Veterans Day - Aleut Offices Closed
DESCRIPTION:
URL:https://aleutcorp.com/calendar/veterans-day-aleut-offices-closed/2025-11-11/
LOCATION:The Aleut Corporation\, 2550 Denali St.\, Ste. 1050\, Anchorage\, AK\, 99503\, United States
CATEGORIES:Holidays
END:VEVENT
BEGIN:VEVENT
DTSTART;VALUE=DATE:20251127
DTEND;VALUE=DATE:20251128
DTSTAMP:20260423T160244
CREATED:20230816T192843Z
LAST-MODIFIED:20240723T215743Z
UID:10000098-1764201600-1764287999@aleutcorp.com
SUMMARY:Thanksgiving - Aleut Offices Closed
DESCRIPTION:Aleut Offices Closed Thursday 11/28 – Friday 11/29.
URL:https://aleutcorp.com/calendar/thanksgiving/2025-11-27/
LOCATION:WA
CATEGORIES:Holidays
END:VEVENT
BEGIN:VEVENT
DTSTART;TZID=America/Anchorage:20251203T120000
DTEND;TZID=America/Anchorage:20251203T120000
DTSTAMP:20260423T160244
CREATED:20251126T001017Z
LAST-MODIFIED:20251126T001254Z
UID:10000306-1764763200-1764763200@aleutcorp.com
SUMMARY:UC Spring 2026 Scholarship Deadline
DESCRIPTION:
URL:https://aleutcorp.com/calendar/uc-spring-2026-scholarship-deadline/
LOCATION:WA
END:VEVENT
BEGIN:VEVENT
DTSTART;VALUE=DATE:20251225
DTEND;VALUE=DATE:20251226
DTSTAMP:20260423T160244
CREATED:20230816T195040Z
LAST-MODIFIED:20240723T214629Z
UID:10000077-1766620800-1766707199@aleutcorp.com
SUMMARY:Christmas Day - Aleut Offices Closed
DESCRIPTION:
URL:https://aleutcorp.com/calendar/christmas-day/2025-12-25/
LOCATION:WA
CATEGORIES:Holidays
END:VEVENT
BEGIN:VEVENT
DTSTART;VALUE=DATE:20251231
DTEND;VALUE=DATE:20260101
DTSTAMP:20260423T160244
CREATED:20230816T195138Z
LAST-MODIFIED:20240723T214048Z
UID:10000073-1767139200-1767225599@aleutcorp.com
SUMMARY:New Year's Eve
DESCRIPTION:
URL:https://aleutcorp.com/calendar/new-years-eve/2025-12-31/
LOCATION:WA
CATEGORIES:Holidays
END:VEVENT
BEGIN:VEVENT
DTSTART;VALUE=DATE:20260101
DTEND;VALUE=DATE:20260102
DTSTAMP:20260423T160244
CREATED:20241105T182336Z
LAST-MODIFIED:20241108T171839Z
UID:10000132-1767225600-1767311999@aleutcorp.com
SUMMARY:New Year's Day - Aleut Office Closed
DESCRIPTION:
URL:https://aleutcorp.com/calendar/new-years-day-aleut-office-closed/2026-01-01/
LOCATION:The Aleut Corporation\, 2550 Denali St.\, Ste. 1050\, Anchorage\, AK\, 99503\, United States
CATEGORIES:Holidays
END:VEVENT
BEGIN:VEVENT
DTSTART;VALUE=DATE:20260107
DTEND;VALUE=DATE:20260108
DTSTAMP:20260423T160244
CREATED:20241105T182632Z
LAST-MODIFIED:20241108T171636Z
UID:10000128-1767744000-1767830399@aleutcorp.com
SUMMARY:Orthodox Christmas
DESCRIPTION:
URL:https://aleutcorp.com/calendar/orthodox-christmas/2026-01-07/
LOCATION:WA
CATEGORIES:Holidays
END:VEVENT
BEGIN:VEVENT
DTSTART;VALUE=DATE:20260114
DTEND;VALUE=DATE:20260115
DTSTAMP:20260423T160244
CREATED:20241105T182736Z
LAST-MODIFIED:20241108T171548Z
UID:10000124-1768348800-1768435199@aleutcorp.com
SUMMARY:Orthodox New Year's
DESCRIPTION:
URL:https://aleutcorp.com/calendar/orthodox-new-years/2026-01-14/
LOCATION:WA
CATEGORIES:Holidays
END:VEVENT
BEGIN:VEVENT
DTSTART;VALUE=DATE:20260119
DTEND;VALUE=DATE:20260120
DTSTAMP:20260423T160244
CREATED:20241105T190550Z
LAST-MODIFIED:20241108T171500Z
UID:10000120-1768780800-1768867199@aleutcorp.com
SUMMARY:Martin Luther King Day
DESCRIPTION:
URL:https://aleutcorp.com/calendar/martin-luther-king-day/2026-01-19/
LOCATION:WA
CATEGORIES:Holidays
END:VEVENT
BEGIN:VEVENT
DTSTART;VALUE=DATE:20260202
DTEND;VALUE=DATE:20260203
DTSTAMP:20260423T160244
CREATED:20241108T165805Z
LAST-MODIFIED:20241108T171233Z
UID:10000116-1769990400-1770076799@aleutcorp.com
SUMMARY:Groundhog Day
DESCRIPTION:
URL:https://aleutcorp.com/calendar/groundhog-day/2026-02-02/
LOCATION:WA
CATEGORIES:Holidays
END:VEVENT
BEGIN:VEVENT
DTSTART;VALUE=DATE:20260212
DTEND;VALUE=DATE:20260213
DTSTAMP:20260423T160244
CREATED:20241108T165852Z
LAST-MODIFIED:20241108T172040Z
UID:10000137-1770854400-1770940799@aleutcorp.com
SUMMARY:Lincoln's Birthday
DESCRIPTION:
URL:https://aleutcorp.com/calendar/lincolns-birthday-2/2026-02-12/
LOCATION:WA
CATEGORIES:Holidays
END:VEVENT
BEGIN:VEVENT
DTSTART;VALUE=DATE:20260214
DTEND;VALUE=DATE:20260215
DTSTAMP:20260423T160244
CREATED:20241108T165942Z
LAST-MODIFIED:20241108T173241Z
UID:10000142-1771027200-1771113599@aleutcorp.com
SUMMARY:Valentine's Day
DESCRIPTION:
URL:https://aleutcorp.com/calendar/valentines-day-2/2026-02-14/
LOCATION:WA
CATEGORIES:Holidays
END:VEVENT
BEGIN:VEVENT
DTSTART;VALUE=DATE:20260216
DTEND;VALUE=DATE:20260217
DTSTAMP:20260423T160244
CREATED:20241108T170149Z
LAST-MODIFIED:20241108T174144Z
UID:10000152-1771200000-1771286399@aleutcorp.com
SUMMARY:Elizabeth Peratrovich Day
DESCRIPTION:
URL:https://aleutcorp.com/calendar/elizabeth-peratrovich-day-2/2026-02-16/
LOCATION:WA
CATEGORIES:Holidays
END:VEVENT
BEGIN:VEVENT
DTSTART;VALUE=DATE:20260216
DTEND;VALUE=DATE:20260217
DTSTAMP:20260423T160244
CREATED:20241108T175057Z
LAST-MODIFIED:20241108T175057Z
UID:10000167-1771200000-1771286399@aleutcorp.com
SUMMARY:Presidents Day - Aleut Offices Closed
DESCRIPTION:
URL:https://aleutcorp.com/calendar/presidents-day-aleut-offices-closed/2026-02-16/
LOCATION:The Aleut Corporation\, 2550 Denali St.\, Ste. 1050\, Anchorage\, AK\, 99503\, United States
END:VEVENT
END:VCALENDAR