BEGIN:VCALENDAR
VERSION:2.0
PRODID:-//Aleut Corporation - ECPv6.15.17.1//NONSGML v1.0//EN
CALSCALE:GREGORIAN
METHOD:PUBLISH
X-WR-CALNAME:Aleut Corporation
X-ORIGINAL-URL:https://aleutcorp.com
X-WR-CALDESC:Events for Aleut Corporation
REFRESH-INTERVAL;VALUE=DURATION:PT1H
X-Robots-Tag:noindex
X-PUBLISHED-TTL:PT1H
BEGIN:VTIMEZONE
TZID:America/Phoenix
BEGIN:STANDARD
TZOFFSETFROM:-0700
TZOFFSETTO:-0700
TZNAME:MST
DTSTART:20250101T000000
END:STANDARD
END:VTIMEZONE
BEGIN:VTIMEZONE
TZID:America/Anchorage
BEGIN:DAYLIGHT
TZOFFSETFROM:-0900
TZOFFSETTO:-0800
TZNAME:AKDT
DTSTART:20250309T110000
END:DAYLIGHT
BEGIN:STANDARD
TZOFFSETFROM:-0800
TZOFFSETTO:-0900
TZNAME:AKST
DTSTART:20251102T100000
END:STANDARD
BEGIN:DAYLIGHT
TZOFFSETFROM:-0900
TZOFFSETTO:-0800
TZNAME:AKDT
DTSTART:20260308T110000
END:DAYLIGHT
BEGIN:STANDARD
TZOFFSETFROM:-0800
TZOFFSETTO:-0900
TZNAME:AKST
DTSTART:20261101T100000
END:STANDARD
BEGIN:DAYLIGHT
TZOFFSETFROM:-0900
TZOFFSETTO:-0800
TZNAME:AKDT
DTSTART:20270314T110000
END:DAYLIGHT
BEGIN:STANDARD
TZOFFSETFROM:-0800
TZOFFSETTO:-0900
TZNAME:AKST
DTSTART:20271107T100000
END:STANDARD
END:VTIMEZONE
BEGIN:VTIMEZONE
TZID:America/Anchorage
BEGIN:DAYLIGHT
TZOFFSETFROM:-0900
TZOFFSETTO:-0800
TZNAME:AKDT
DTSTART:20250309T110000
END:DAYLIGHT
BEGIN:STANDARD
TZOFFSETFROM:-0800
TZOFFSETTO:-0900
TZNAME:AKST
DTSTART:20251102T100000
END:STANDARD
BEGIN:DAYLIGHT
TZOFFSETFROM:-0900
TZOFFSETTO:-0800
TZNAME:AKDT
DTSTART:20260308T110000
END:DAYLIGHT
BEGIN:STANDARD
TZOFFSETFROM:-0800
TZOFFSETTO:-0900
TZNAME:AKST
DTSTART:20261101T100000
END:STANDARD
BEGIN:DAYLIGHT
TZOFFSETFROM:-0900
TZOFFSETTO:-0800
TZNAME:AKDT
DTSTART:20270314T110000
END:DAYLIGHT
BEGIN:STANDARD
TZOFFSETFROM:-0800
TZOFFSETTO:-0900
TZNAME:AKST
DTSTART:20271107T100000
END:STANDARD
END:VTIMEZONE
BEGIN:VEVENT
DTSTART;TZID=America/Phoenix:20260328T113000
DTEND;TZID=America/Phoenix:20260328T140000
DTSTAMP:20260423T095130
CREATED:20260218T002752Z
LAST-MODIFIED:20260218T003111Z
UID:10000311-1774697400-1774706400@aleutcorp.com
SUMMARY:Shareholder Meeting - Scottsdale\, AZ
DESCRIPTION:Saturday\, March 28 \nAgenda: \n11:30am – Appetizers available \n12pm – Meeting Begins \nLocation: Westin Kierland Resort & Spa \nAddress: 6902 East Greenway Parkway \nScottsdale\, AZ 85254
URL:https://aleutcorp.com/calendar/shareholder-meeting-scottsdale-az/
CATEGORIES:Events
END:VEVENT
BEGIN:VEVENT
DTSTART;VALUE=DATE:20260401
DTEND;VALUE=DATE:20260402
DTSTAMP:20260423T095130
CREATED:20241108T183820Z
LAST-MODIFIED:20241108T183844Z
UID:10000182-1775001600-1775087999@aleutcorp.com
SUMMARY:April Fool's Day
DESCRIPTION:
URL:https://aleutcorp.com/calendar/april-fools-day-2/2026-04-01/
CATEGORIES:Holidays
END:VEVENT
BEGIN:VEVENT
DTSTART;VALUE=DATE:20260401
DTEND;VALUE=DATE:20260402
DTSTAMP:20260423T095130
CREATED:20260324T193606Z
LAST-MODIFIED:20260325T235132Z
UID:10000317-1775001600-1775087999@aleutcorp.com
SUMMARY:2026 Summer Scholarship Applications Open
DESCRIPTION:
URL:https://aleutcorp.com/calendar/summer-scholarship-applications-open/
LOCATION:Private: Ulakaia Center\, 2550 Denali St.\, Ste. 1050\, Anchorage\, AK\, 99503\, United States
CATEGORIES:Scholarships
END:VEVENT
BEGIN:VEVENT
DTSTART;VALUE=DATE:20260403
DTEND;VALUE=DATE:20260404
DTSTAMP:20260423T095130
CREATED:20260324T193035Z
LAST-MODIFIED:20260324T193035Z
UID:10000316-1775174400-1775260799@aleutcorp.com
SUMMARY:Good Friday - Aleut Offices Closed
DESCRIPTION:
URL:https://aleutcorp.com/calendar/good-friday-aleut-offices-closed/
LOCATION:The Aleut Corporation\, 2550 Denali St.\, Ste. 1050\, Anchorage\, AK\, 99503\, United States
CATEGORIES:Holidays
END:VEVENT
BEGIN:VEVENT
DTSTART;VALUE=DATE:20260405
DTEND;VALUE=DATE:20260406
DTSTAMP:20260423T095130
CREATED:20260324T194138Z
LAST-MODIFIED:20260324T194138Z
UID:10000319-1775347200-1775433599@aleutcorp.com
SUMMARY:Easter
DESCRIPTION:
URL:https://aleutcorp.com/calendar/easter/
CATEGORIES:Holidays
END:VEVENT
BEGIN:VEVENT
DTSTART;VALUE=DATE:20260412
DTEND;VALUE=DATE:20260413
DTSTAMP:20260423T095130
CREATED:20260324T194234Z
LAST-MODIFIED:20260324T194234Z
UID:10000320-1775952000-1776038399@aleutcorp.com
SUMMARY:Orthodox Easter
DESCRIPTION:
URL:https://aleutcorp.com/calendar/orthodox-easter/
CATEGORIES:Holidays
END:VEVENT
BEGIN:VEVENT
DTSTART;TZID=America/Anchorage:20260430T120000
DTEND;TZID=America/Anchorage:20260430T120000
DTSTAMP:20260423T095130
CREATED:20260324T193906Z
LAST-MODIFIED:20260325T235254Z
UID:10000318-1777550400-1777550400@aleutcorp.com
SUMMARY:2026 Summer Scholarship Application Deadline
DESCRIPTION:
URL:https://aleutcorp.com/calendar/summer-scholarship-application-deadline/
LOCATION:Private: Ulakaia Center\, 2550 Denali St.\, Ste. 1050\, Anchorage\, AK\, 99503\, United States
CATEGORIES:Scholarships
END:VEVENT
BEGIN:VEVENT
DTSTART;VALUE=DATE:20260510
DTEND;VALUE=DATE:20260511
DTSTAMP:20260423T095130
CREATED:20260324T203249Z
LAST-MODIFIED:20260324T203249Z
UID:10000321-1778371200-1778457599@aleutcorp.com
SUMMARY:Mother's Day
DESCRIPTION:
URL:https://aleutcorp.com/calendar/mothers-day/
CATEGORIES:Holidays
END:VEVENT
BEGIN:VEVENT
DTSTART;VALUE=DATE:20260516
DTEND;VALUE=DATE:20260518
DTSTAMP:20260423T095130
CREATED:20260326T000203Z
LAST-MODIFIED:20260326T000203Z
UID:10000323-1778889600-1779062399@aleutcorp.com
SUMMARY:Alaska Native Day Celebration in Fort Ross
DESCRIPTION:Join this two-day event hosted by the Alaska Native Community in Metini-Fort Ross\, CA. More details to come.
URL:https://aleutcorp.com/calendar/alaska-native-day-celebration-in-fort-ross/
END:VEVENT
BEGIN:VEVENT
DTSTART;VALUE=DATE:20260525
DTEND;VALUE=DATE:20260526
DTSTAMP:20260423T095130
CREATED:20241114T180152Z
LAST-MODIFIED:20241114T191410Z
UID:10000200-1779667200-1779753599@aleutcorp.com
SUMMARY:Memorial Day - Aleut Offices Closed
DESCRIPTION:
URL:https://aleutcorp.com/calendar/memorial-day-aleut-offices-closed/2026-05-25/
LOCATION:The Aleut Corporation\, 2550 Denali St.\, Ste. 1050\, Anchorage\, AK\, 99503\, United States
CATEGORIES:Holidays
END:VEVENT
BEGIN:VEVENT
DTSTART;VALUE=DATE:20260608
DTEND;VALUE=DATE:20260613
DTSTAMP:20260423T095130
CREATED:20260326T000343Z
LAST-MODIFIED:20260326T000343Z
UID:10000324-1780876800-1781308799@aleutcorp.com
SUMMARY:APIA Culture Camp
DESCRIPTION:
URL:https://aleutcorp.com/calendar/apia-culture-camp-2/
END:VEVENT
BEGIN:VEVENT
DTSTART;VALUE=DATE:20260612
DTEND;VALUE=DATE:20260613
DTSTAMP:20260423T095130
CREATED:20260326T175850Z
LAST-MODIFIED:20260326T175850Z
UID:10000325-1781222400-1781308799@aleutcorp.com
SUMMARY:Board Nomination Packets Due
DESCRIPTION:
URL:https://aleutcorp.com/calendar/board-nomination-packets-due/
LOCATION:The Aleut Corporation\, 2550 Denali St.\, Ste. 1050\, Anchorage\, AK\, 99503\, United States
CATEGORIES:Records & Forms
END:VEVENT
BEGIN:VEVENT
DTSTART;VALUE=DATE:20260612
DTEND;VALUE=DATE:20260613
DTSTAMP:20260423T095130
CREATED:20260326T180107Z
LAST-MODIFIED:20260326T180107Z
UID:10000326-1781222400-1781308799@aleutcorp.com
SUMMARY:Shareholder of the Year Nomination Deadline
DESCRIPTION:
URL:https://aleutcorp.com/calendar/shareholder-of-the-year-nomination-deadline/
LOCATION:The Aleut Corporation\, 2550 Denali St.\, Ste. 1050\, Anchorage\, AK\, 99503\, United States
END:VEVENT
BEGIN:VEVENT
DTSTART;TZID=America/Anchorage:20260613T113000
DTEND;TZID=America/Anchorage:20260613T150000
DTSTAMP:20260423T095130
CREATED:20260311T204553Z
LAST-MODIFIED:20260414T205957Z
UID:10000313-1781350200-1781362800@aleutcorp.com
SUMMARY:Aleut Picnic - 2026
DESCRIPTION:The annual Aleut Picnic will be held on Saturday\, June 13\, from 11:30 am – 3:00 pm on the Aleut Plaza lawn\, located at 4000 Old Seward Hwy\, Anchorage\, AK 99503. We’re excited to see you there\, rain or shine!
URL:https://aleutcorp.com/calendar/aleut-picnic-2026/
LOCATION:Aleut Plaza\, 4000 Old Seward Hwy\, Anchorage\, 99503\, United States
CATEGORIES:Events
ORGANIZER;CN="The Aleut Corporation":MAILTO:info@aleutcorp.com
END:VEVENT
BEGIN:VEVENT
DTSTART;VALUE=DATE:20260619
DTEND;VALUE=DATE:20260620
DTSTAMP:20260423T095130
CREATED:20241114T181003Z
LAST-MODIFIED:20241114T181003Z
UID:10000207-1781827200-1781913599@aleutcorp.com
SUMMARY:Juneteenth
DESCRIPTION:
URL:https://aleutcorp.com/calendar/juneteenth-2/2026-06-19/
CATEGORIES:Holidays
END:VEVENT
BEGIN:VEVENT
DTSTART;VALUE=DATE:20260619
DTEND;VALUE=DATE:20260620
DTSTAMP:20260423T095130
CREATED:20241114T181159Z
LAST-MODIFIED:20260325T201758Z
UID:10000213-1781827200-1781913599@aleutcorp.com
SUMMARY:Aleut Incorporation Day - Aleut Offices Closed
DESCRIPTION:
URL:https://aleutcorp.com/calendar/aleut-incorporation-day/
CATEGORIES:Holidays
END:VEVENT
BEGIN:VEVENT
DTSTART;VALUE=DATE:20260621
DTEND;VALUE=DATE:20260622
DTSTAMP:20260423T095130
CREATED:20260324T203407Z
LAST-MODIFIED:20260324T203407Z
UID:10000322-1782000000-1782086399@aleutcorp.com
SUMMARY:Father's Day
DESCRIPTION:
URL:https://aleutcorp.com/calendar/fathers-day/
CATEGORIES:Holidays
END:VEVENT
BEGIN:VEVENT
DTSTART;VALUE=DATE:20260704
DTEND;VALUE=DATE:20260705
DTSTAMP:20260423T095130
CREATED:20240408T190816Z
LAST-MODIFIED:20240723T215628Z
UID:10000094-1783123200-1783209599@aleutcorp.com
SUMMARY:Independence Day - Aleut Offices Closed
DESCRIPTION:
URL:https://aleutcorp.com/calendar/independence-day-tac-offices-closed/2026-07-04/
LOCATION:The Aleut Corporation\, 2550 Denali St.\, Ste. 1050\, Anchorage\, AK\, 99503\, United States
CATEGORIES:Events
END:VEVENT
BEGIN:VEVENT
DTSTART;VALUE=DATE:20260907
DTEND;VALUE=DATE:20260908
DTSTAMP:20260423T095130
CREATED:20230627T075907Z
LAST-MODIFIED:20240723T215401Z
UID:10000090-1788739200-1788825599@aleutcorp.com
SUMMARY:Labor Day - Aleut Offices Closed
DESCRIPTION:
URL:https://aleutcorp.com/calendar/labor-day/2026-09-07/
LOCATION:The Aleut Corporation\, 2550 Denali St.\, Ste. 1050\, Anchorage\, AK\, 99503\, United States
CATEGORIES:Holidays
END:VEVENT
BEGIN:VEVENT
DTSTART;VALUE=DATE:20260907
DTEND;VALUE=DATE:20260908
DTSTAMP:20260423T095130
CREATED:20241114T193822Z
LAST-MODIFIED:20241114T193822Z
UID:10000230-1788739200-1788825599@aleutcorp.com
SUMMARY:Labor Day - Aleut Offices Closed
DESCRIPTION:
URL:https://aleutcorp.com/calendar/labor-day-aleut-offices-closed/2026-09-07/
LOCATION:The Aleut Corporation\, 2550 Denali St.\, Ste. 1050\, Anchorage\, AK\, 99503\, United States
CATEGORIES:Holidays
END:VEVENT
BEGIN:VEVENT
DTSTART;VALUE=DATE:20260911
DTEND;VALUE=DATE:20260912
DTSTAMP:20260423T095130
CREATED:20230816T190838Z
LAST-MODIFIED:20240723T215339Z
UID:10000086-1789084800-1789171199@aleutcorp.com
SUMMARY:Patriot Day
DESCRIPTION:
URL:https://aleutcorp.com/calendar/patriot-day/2026-09-11/
CATEGORIES:Holidays
END:VEVENT
BEGIN:VEVENT
DTSTART;VALUE=DATE:20261012
DTEND;VALUE=DATE:20261013
DTSTAMP:20260423T095130
CREATED:20241114T195459Z
LAST-MODIFIED:20241114T195459Z
UID:10000247-1791763200-1791849599@aleutcorp.com
SUMMARY:Indigenous Peoples' Day - Aleut Offices Closed
DESCRIPTION:
URL:https://aleutcorp.com/calendar/indigenous-peoples-day-aleut-offices-closed/2026-10-12/
LOCATION:The Aleut Corporation\, 2550 Denali St.\, Ste. 1050\, Anchorage\, AK\, 99503\, United States
CATEGORIES:Holidays
END:VEVENT
BEGIN:VEVENT
DTSTART;TZID=America/Anchorage:20261017T130000
DTEND;TZID=America/Anchorage:20261017T170000
DTSTAMP:20260423T095130
CREATED:20260407T234509Z
LAST-MODIFIED:20260414T205153Z
UID:10000327-1792242000-1792256400@aleutcorp.com
SUMMARY:54th Annual Meeting of Shareholders
DESCRIPTION:The 54th Annual Meeting of Shareholders will be held on Saturday\, October 17 in Bellevue\, WA at the Hilton Bellevue. More information to come.
URL:https://aleutcorp.com/calendar/54th-annual-meeting-of-shareholders/
LOCATION:Private: Hilton Bellevue\, 300 112th Ave SE\, Bellevue\, WA\, 98004\, United States
CATEGORIES:Annual Meeting
ORGANIZER;CN="The Aleut Corporation":MAILTO:info@aleutcorp.com
END:VEVENT
BEGIN:VEVENT
DTSTART;VALUE=DATE:20261018
DTEND;VALUE=DATE:20261019
DTSTAMP:20260423T095130
CREATED:20241114T200332Z
LAST-MODIFIED:20241114T200332Z
UID:10000253-1792281600-1792367999@aleutcorp.com
SUMMARY:Alaska Day
DESCRIPTION:
URL:https://aleutcorp.com/calendar/alaska-day-2/2026-10-18/
CATEGORIES:Holidays
END:VEVENT
BEGIN:VEVENT
DTSTART;VALUE=DATE:20261031
DTEND;VALUE=DATE:20261101
DTSTAMP:20260423T095130
CREATED:20230816T192639Z
LAST-MODIFIED:20240723T215151Z
UID:10000082-1793404800-1793491199@aleutcorp.com
SUMMARY:Halloween
DESCRIPTION:
URL:https://aleutcorp.com/calendar/halloween/2026-10-31/
CATEGORIES:Holidays
END:VEVENT
BEGIN:VEVENT
DTSTART;VALUE=DATE:20261101
DTEND;VALUE=DATE:20261102
DTSTAMP:20260423T095130
CREATED:20241114T200628Z
LAST-MODIFIED:20241114T200628Z
UID:10000258-1793491200-1793577599@aleutcorp.com
SUMMARY:Daylight Savings Ends (Fall Back)
DESCRIPTION:
URL:https://aleutcorp.com/calendar/daylight-savings-ends-fall-back/2026-11-01/
CATEGORIES:Events
END:VEVENT
BEGIN:VEVENT
DTSTART;VALUE=DATE:20261111
DTEND;VALUE=DATE:20261112
DTSTAMP:20260423T095130
CREATED:20241114T200717Z
LAST-MODIFIED:20241114T200730Z
UID:10000263-1794355200-1794441599@aleutcorp.com
SUMMARY:Veterans Day - Aleut Offices Closed
DESCRIPTION:
URL:https://aleutcorp.com/calendar/veterans-day-aleut-offices-closed/2026-11-11/
LOCATION:The Aleut Corporation\, 2550 Denali St.\, Ste. 1050\, Anchorage\, AK\, 99503\, United States
CATEGORIES:Holidays
END:VEVENT
BEGIN:VEVENT
DTSTART;VALUE=DATE:20261126
DTEND;VALUE=DATE:20261127
DTSTAMP:20260423T095130
CREATED:20230816T192843Z
LAST-MODIFIED:20240723T215743Z
UID:10000099-1795651200-1795737599@aleutcorp.com
SUMMARY:Thanksgiving - Aleut Offices Closed
DESCRIPTION:Aleut Offices Closed Thursday 11/28 – Friday 11/29.
URL:https://aleutcorp.com/calendar/thanksgiving/2026-11-26/
CATEGORIES:Holidays
END:VEVENT
BEGIN:VEVENT
DTSTART;VALUE=DATE:20261225
DTEND;VALUE=DATE:20261226
DTSTAMP:20260423T095130
CREATED:20230816T195040Z
LAST-MODIFIED:20240723T214629Z
UID:10000078-1798156800-1798243199@aleutcorp.com
SUMMARY:Christmas Day - Aleut Offices Closed
DESCRIPTION:
URL:https://aleutcorp.com/calendar/christmas-day/2026-12-25/
CATEGORIES:Holidays
END:VEVENT
BEGIN:VEVENT
DTSTART;VALUE=DATE:20261231
DTEND;VALUE=DATE:20270101
DTSTAMP:20260423T095130
CREATED:20230816T195138Z
LAST-MODIFIED:20240723T214048Z
UID:10000074-1798675200-1798761599@aleutcorp.com
SUMMARY:New Year's Eve
DESCRIPTION:
URL:https://aleutcorp.com/calendar/new-years-eve/2026-12-31/
CATEGORIES:Holidays
END:VEVENT
END:VCALENDAR