BEGIN:VCALENDAR
VERSION:2.0
PRODID:-//Aleut Corporation - ECPv6.15.17.1//NONSGML v1.0//EN
CALSCALE:GREGORIAN
METHOD:PUBLISH
X-ORIGINAL-URL:https://aleutcorp.com
X-WR-CALDESC:Events for Aleut Corporation
REFRESH-INTERVAL;VALUE=DURATION:PT1H
X-Robots-Tag:noindex
X-PUBLISHED-TTL:PT1H
BEGIN:VTIMEZONE
TZID:America/Anchorage
BEGIN:DAYLIGHT
TZOFFSETFROM:-0900
TZOFFSETTO:-0800
TZNAME:AKDT
DTSTART:20260308T110000
END:DAYLIGHT
BEGIN:STANDARD
TZOFFSETFROM:-0800
TZOFFSETTO:-0900
TZNAME:AKST
DTSTART:20261101T100000
END:STANDARD
BEGIN:DAYLIGHT
TZOFFSETFROM:-0900
TZOFFSETTO:-0800
TZNAME:AKDT
DTSTART:20270314T110000
END:DAYLIGHT
BEGIN:STANDARD
TZOFFSETFROM:-0800
TZOFFSETTO:-0900
TZNAME:AKST
DTSTART:20271107T100000
END:STANDARD
BEGIN:DAYLIGHT
TZOFFSETFROM:-0900
TZOFFSETTO:-0800
TZNAME:AKDT
DTSTART:20280312T110000
END:DAYLIGHT
BEGIN:STANDARD
TZOFFSETFROM:-0800
TZOFFSETTO:-0900
TZNAME:AKST
DTSTART:20281105T100000
END:STANDARD
END:VTIMEZONE
BEGIN:VTIMEZONE
TZID:America/Anchorage
BEGIN:DAYLIGHT
TZOFFSETFROM:-0900
TZOFFSETTO:-0800
TZNAME:AKDT
DTSTART:20260308T110000
END:DAYLIGHT
BEGIN:STANDARD
TZOFFSETFROM:-0800
TZOFFSETTO:-0900
TZNAME:AKST
DTSTART:20261101T100000
END:STANDARD
BEGIN:DAYLIGHT
TZOFFSETFROM:-0900
TZOFFSETTO:-0800
TZNAME:AKDT
DTSTART:20270314T110000
END:DAYLIGHT
BEGIN:STANDARD
TZOFFSETFROM:-0800
TZOFFSETTO:-0900
TZNAME:AKST
DTSTART:20271107T100000
END:STANDARD
BEGIN:DAYLIGHT
TZOFFSETFROM:-0900
TZOFFSETTO:-0800
TZNAME:AKDT
DTSTART:20280312T110000
END:DAYLIGHT
BEGIN:STANDARD
TZOFFSETFROM:-0800
TZOFFSETTO:-0900
TZNAME:AKST
DTSTART:20281105T100000
END:STANDARD
END:VTIMEZONE
BEGIN:VEVENT
DTSTART;VALUE=DATE:20270118
DTEND;VALUE=DATE:20270119
DTSTAMP:20260423T143638
CREATED:20241105T190550Z
LAST-MODIFIED:20241108T171500Z
UID:10000121-1800230400-1800316799@aleutcorp.com
SUMMARY:Martin Luther King Day
DESCRIPTION:
URL:https://aleutcorp.com/calendar/martin-luther-king-day/2027-01-18/
CATEGORIES:Holidays
END:VEVENT
BEGIN:VEVENT
DTSTART;VALUE=DATE:20270202
DTEND;VALUE=DATE:20270203
DTSTAMP:20260423T143638
CREATED:20241108T165805Z
LAST-MODIFIED:20241108T171233Z
UID:10000117-1801526400-1801612799@aleutcorp.com
SUMMARY:Groundhog Day
DESCRIPTION:
URL:https://aleutcorp.com/calendar/groundhog-day/2027-02-02/
CATEGORIES:Holidays
END:VEVENT
BEGIN:VEVENT
DTSTART;VALUE=DATE:20270212
DTEND;VALUE=DATE:20270213
DTSTAMP:20260423T143638
CREATED:20241108T165852Z
LAST-MODIFIED:20241108T172040Z
UID:10000138-1802390400-1802476799@aleutcorp.com
SUMMARY:Lincoln's Birthday
DESCRIPTION:
URL:https://aleutcorp.com/calendar/lincolns-birthday-2/2027-02-12/
CATEGORIES:Holidays
END:VEVENT
BEGIN:VEVENT
DTSTART;VALUE=DATE:20270214
DTEND;VALUE=DATE:20270215
DTSTAMP:20260423T143638
CREATED:20241108T165942Z
LAST-MODIFIED:20241108T173241Z
UID:10000143-1802563200-1802649599@aleutcorp.com
SUMMARY:Valentine's Day
DESCRIPTION:
URL:https://aleutcorp.com/calendar/valentines-day-2/2027-02-14/
CATEGORIES:Holidays
END:VEVENT
BEGIN:VEVENT
DTSTART;VALUE=DATE:20270215
DTEND;VALUE=DATE:20270216
DTSTAMP:20260423T143638
CREATED:20241108T175057Z
LAST-MODIFIED:20241108T175057Z
UID:10000168-1802649600-1802735999@aleutcorp.com
SUMMARY:Presidents Day - Aleut Offices Closed
DESCRIPTION:
URL:https://aleutcorp.com/calendar/presidents-day-aleut-offices-closed/2027-02-15/
LOCATION:The Aleut Corporation\, 2550 Denali St.\, Ste. 1050\, Anchorage\, AK\, 99503\, United States
END:VEVENT
BEGIN:VEVENT
DTSTART;VALUE=DATE:20270216
DTEND;VALUE=DATE:20270217
DTSTAMP:20260423T143638
CREATED:20241108T170149Z
LAST-MODIFIED:20241108T174144Z
UID:10000153-1802736000-1802822399@aleutcorp.com
SUMMARY:Elizabeth Peratrovich Day
DESCRIPTION:
URL:https://aleutcorp.com/calendar/elizabeth-peratrovich-day-2/2027-02-16/
CATEGORIES:Holidays
END:VEVENT
BEGIN:VEVENT
DTSTART;VALUE=DATE:20270308
DTEND;VALUE=DATE:20270309
DTSTAMP:20260423T143638
CREATED:20241108T174315Z
LAST-MODIFIED:20241108T174315Z
UID:10000158-1804464000-1804546799@aleutcorp.com
SUMMARY:International Women's Day
DESCRIPTION:
URL:https://aleutcorp.com/calendar/international-womens-day-2/2027-03-08/
CATEGORIES:Holidays
END:VEVENT
BEGIN:VEVENT
DTSTART;VALUE=DATE:20270314
DTEND;VALUE=DATE:20270315
DTSTAMP:20260423T143638
CREATED:20241108T174529Z
LAST-MODIFIED:20241108T174529Z
UID:10000163-1804982400-1805065199@aleutcorp.com
SUMMARY:Daylight Savings Begins (Spring Forward)
DESCRIPTION:
URL:https://aleutcorp.com/calendar/daylight-savings-begins-spring-forward-2/2027-03-14/
CATEGORIES:Holidays
END:VEVENT
BEGIN:VEVENT
DTSTART;VALUE=DATE:20270317
DTEND;VALUE=DATE:20270318
DTSTAMP:20260423T143638
CREATED:20241108T175311Z
LAST-MODIFIED:20241108T175311Z
UID:10000173-1805241600-1805327999@aleutcorp.com
SUMMARY:St. Patrick's Day
DESCRIPTION:
URL:https://aleutcorp.com/calendar/st-patricks-day-2/2027-03-17/
CATEGORIES:Holidays
END:VEVENT
BEGIN:VEVENT
DTSTART;VALUE=DATE:20270401
DTEND;VALUE=DATE:20270402
DTSTAMP:20260423T143638
CREATED:20241108T183820Z
LAST-MODIFIED:20241108T183844Z
UID:10000183-1806537600-1806623999@aleutcorp.com
SUMMARY:April Fool's Day
DESCRIPTION:
URL:https://aleutcorp.com/calendar/april-fools-day-2/2027-04-01/
CATEGORIES:Holidays
END:VEVENT
BEGIN:VEVENT
DTSTART;VALUE=DATE:20270531
DTEND;VALUE=DATE:20270601
DTSTAMP:20260423T143638
CREATED:20241114T180152Z
LAST-MODIFIED:20241114T191410Z
UID:10000201-1811721600-1811807999@aleutcorp.com
SUMMARY:Memorial Day - Aleut Offices Closed
DESCRIPTION:
URL:https://aleutcorp.com/calendar/memorial-day-aleut-offices-closed/2027-05-31/
LOCATION:The Aleut Corporation\, 2550 Denali St.\, Ste. 1050\, Anchorage\, AK\, 99503\, United States
CATEGORIES:Holidays
END:VEVENT
BEGIN:VEVENT
DTSTART;VALUE=DATE:20270619
DTEND;VALUE=DATE:20270620
DTSTAMP:20260423T143638
CREATED:20241114T181003Z
LAST-MODIFIED:20241114T181003Z
UID:10000208-1813363200-1813449599@aleutcorp.com
SUMMARY:Juneteenth
DESCRIPTION:
URL:https://aleutcorp.com/calendar/juneteenth-2/2027-06-19/
CATEGORIES:Holidays
END:VEVENT
BEGIN:VEVENT
DTSTART;VALUE=DATE:20270704
DTEND;VALUE=DATE:20270705
DTSTAMP:20260423T143638
CREATED:20240408T190816Z
LAST-MODIFIED:20240723T215628Z
UID:10000095-1814659200-1814745599@aleutcorp.com
SUMMARY:Independence Day - Aleut Offices Closed
DESCRIPTION:
URL:https://aleutcorp.com/calendar/independence-day-tac-offices-closed/2027-07-04/
LOCATION:The Aleut Corporation\, 2550 Denali St.\, Ste. 1050\, Anchorage\, AK\, 99503\, United States
CATEGORIES:Events
END:VEVENT
BEGIN:VEVENT
DTSTART;VALUE=DATE:20270906
DTEND;VALUE=DATE:20270907
DTSTAMP:20260423T143638
CREATED:20230627T075907Z
LAST-MODIFIED:20240723T215401Z
UID:10000091-1820188800-1820275199@aleutcorp.com
SUMMARY:Labor Day - Aleut Offices Closed
DESCRIPTION:
URL:https://aleutcorp.com/calendar/labor-day/2027-09-06/
LOCATION:The Aleut Corporation\, 2550 Denali St.\, Ste. 1050\, Anchorage\, AK\, 99503\, United States
CATEGORIES:Holidays
END:VEVENT
BEGIN:VEVENT
DTSTART;VALUE=DATE:20270906
DTEND;VALUE=DATE:20270907
DTSTAMP:20260423T143638
CREATED:20241114T193822Z
LAST-MODIFIED:20241114T193822Z
UID:10000231-1820188800-1820275199@aleutcorp.com
SUMMARY:Labor Day - Aleut Offices Closed
DESCRIPTION:
URL:https://aleutcorp.com/calendar/labor-day-aleut-offices-closed/2027-09-06/
LOCATION:The Aleut Corporation\, 2550 Denali St.\, Ste. 1050\, Anchorage\, AK\, 99503\, United States
CATEGORIES:Holidays
END:VEVENT
BEGIN:VEVENT
DTSTART;VALUE=DATE:20270911
DTEND;VALUE=DATE:20270912
DTSTAMP:20260423T143638
CREATED:20230816T190838Z
LAST-MODIFIED:20240723T215339Z
UID:10000087-1820620800-1820707199@aleutcorp.com
SUMMARY:Patriot Day
DESCRIPTION:
URL:https://aleutcorp.com/calendar/patriot-day/2027-09-11/
CATEGORIES:Holidays
END:VEVENT
END:VCALENDAR