BEGIN:VCALENDAR
VERSION:2.0
PRODID:-//Aleut Corporation - ECPv6.15.17.1//NONSGML v1.0//EN
CALSCALE:GREGORIAN
METHOD:PUBLISH
X-ORIGINAL-URL:https://aleutcorp.com
X-WR-CALDESC:Events for Aleut Corporation
REFRESH-INTERVAL;VALUE=DURATION:PT1H
X-Robots-Tag:noindex
X-PUBLISHED-TTL:PT1H
BEGIN:VTIMEZONE
TZID:America/Anchorage
BEGIN:DAYLIGHT
TZOFFSETFROM:-0900
TZOFFSETTO:-0800
TZNAME:AKDT
DTSTART:20280312T110000
END:DAYLIGHT
BEGIN:STANDARD
TZOFFSETFROM:-0800
TZOFFSETTO:-0900
TZNAME:AKST
DTSTART:20281105T100000
END:STANDARD
BEGIN:DAYLIGHT
TZOFFSETFROM:-0900
TZOFFSETTO:-0800
TZNAME:AKDT
DTSTART:20290311T110000
END:DAYLIGHT
BEGIN:STANDARD
TZOFFSETFROM:-0800
TZOFFSETTO:-0900
TZNAME:AKST
DTSTART:20291104T100000
END:STANDARD
BEGIN:DAYLIGHT
TZOFFSETFROM:-0900
TZOFFSETTO:-0800
TZNAME:AKDT
DTSTART:20300310T110000
END:DAYLIGHT
BEGIN:STANDARD
TZOFFSETFROM:-0800
TZOFFSETTO:-0900
TZNAME:AKST
DTSTART:20301103T100000
END:STANDARD
BEGIN:DAYLIGHT
TZOFFSETFROM:-0900
TZOFFSETTO:-0800
TZNAME:AKDT
DTSTART:20310309T110000
END:DAYLIGHT
BEGIN:STANDARD
TZOFFSETFROM:-0800
TZOFFSETTO:-0900
TZNAME:AKST
DTSTART:20311102T100000
END:STANDARD
END:VTIMEZONE
BEGIN:VEVENT
DTSTART;VALUE=DATE:20291231
DTEND;VALUE=DATE:20300101
DTSTAMP:20260425T171005
CREATED:20230816T195138Z
LAST-MODIFIED:20240723T214048Z
UID:10000295-1893369600-1893455999@aleutcorp.com
SUMMARY:New Year's Eve
DESCRIPTION:
URL:https://aleutcorp.com/calendar/new-years-eve/2029-12-31/
CATEGORIES:Holidays
END:VEVENT
BEGIN:VEVENT
DTSTART;VALUE=DATE:20300101
DTEND;VALUE=DATE:20300102
DTSTAMP:20260425T171005
CREATED:20241105T182336Z
LAST-MODIFIED:20241108T171839Z
UID:10000296-1893456000-1893542399@aleutcorp.com
SUMMARY:New Year's Day - Aleut Office Closed
DESCRIPTION:
URL:https://aleutcorp.com/calendar/new-years-day-aleut-office-closed/2030-01-01/
LOCATION:The Aleut Corporation\, 2550 Denali St.\, Ste. 1050\, Anchorage\, AK\, 99503\, United States
CATEGORIES:Holidays
END:VEVENT
BEGIN:VEVENT
DTSTART;VALUE=DATE:20300107
DTEND;VALUE=DATE:20300108
DTSTAMP:20260425T171005
CREATED:20241105T182632Z
LAST-MODIFIED:20241108T171636Z
UID:10000297-1893974400-1894060799@aleutcorp.com
SUMMARY:Orthodox Christmas
DESCRIPTION:
URL:https://aleutcorp.com/calendar/orthodox-christmas/2030-01-07/
CATEGORIES:Holidays
END:VEVENT
BEGIN:VEVENT
DTSTART;VALUE=DATE:20300114
DTEND;VALUE=DATE:20300115
DTSTAMP:20260425T171005
CREATED:20241105T182736Z
LAST-MODIFIED:20241108T171548Z
UID:10000298-1894579200-1894665599@aleutcorp.com
SUMMARY:Orthodox New Year's
DESCRIPTION:
URL:https://aleutcorp.com/calendar/orthodox-new-years/2030-01-14/
CATEGORIES:Holidays
END:VEVENT
BEGIN:VEVENT
DTSTART;VALUE=DATE:20300121
DTEND;VALUE=DATE:20300122
DTSTAMP:20260425T171005
CREATED:20241105T190550Z
LAST-MODIFIED:20241108T171500Z
UID:10000299-1895184000-1895270399@aleutcorp.com
SUMMARY:Martin Luther King Day
DESCRIPTION:
URL:https://aleutcorp.com/calendar/martin-luther-king-day/2030-01-21/
CATEGORIES:Holidays
END:VEVENT
BEGIN:VEVENT
DTSTART;VALUE=DATE:20300202
DTEND;VALUE=DATE:20300203
DTSTAMP:20260425T171005
CREATED:20241108T165805Z
LAST-MODIFIED:20241108T171233Z
UID:10000300-1896220800-1896307199@aleutcorp.com
SUMMARY:Groundhog Day
DESCRIPTION:
URL:https://aleutcorp.com/calendar/groundhog-day/2030-02-02/
CATEGORIES:Holidays
END:VEVENT
BEGIN:VEVENT
DTSTART;VALUE=DATE:20300212
DTEND;VALUE=DATE:20300213
DTSTAMP:20260425T171005
CREATED:20241108T165852Z
LAST-MODIFIED:20241108T172040Z
UID:10000302-1897084800-1897171199@aleutcorp.com
SUMMARY:Lincoln's Birthday
DESCRIPTION:
URL:https://aleutcorp.com/calendar/lincolns-birthday-2/2030-02-12/
CATEGORIES:Holidays
END:VEVENT
BEGIN:VEVENT
DTSTART;VALUE=DATE:20300214
DTEND;VALUE=DATE:20300215
DTSTAMP:20260425T171005
CREATED:20241108T165942Z
LAST-MODIFIED:20241108T173241Z
UID:10000303-1897257600-1897343999@aleutcorp.com
SUMMARY:Valentine's Day
DESCRIPTION:
URL:https://aleutcorp.com/calendar/valentines-day-2/2030-02-14/
CATEGORIES:Holidays
END:VEVENT
BEGIN:VEVENT
DTSTART;VALUE=DATE:20300216
DTEND;VALUE=DATE:20300217
DTSTAMP:20260425T171005
CREATED:20241108T170149Z
LAST-MODIFIED:20241108T174144Z
UID:10000304-1897430400-1897516799@aleutcorp.com
SUMMARY:Elizabeth Peratrovich Day
DESCRIPTION:
URL:https://aleutcorp.com/calendar/elizabeth-peratrovich-day-2/2030-02-16/
CATEGORIES:Holidays
END:VEVENT
BEGIN:VEVENT
DTSTART;VALUE=DATE:20300218
DTEND;VALUE=DATE:20300219
DTSTAMP:20260425T171005
CREATED:20241108T175057Z
LAST-MODIFIED:20241108T175057Z
UID:10000305-1897603200-1897689599@aleutcorp.com
SUMMARY:Presidents Day - Aleut Offices Closed
DESCRIPTION:
URL:https://aleutcorp.com/calendar/presidents-day-aleut-offices-closed/2030-02-18/
LOCATION:The Aleut Corporation\, 2550 Denali St.\, Ste. 1050\, Anchorage\, AK\, 99503\, United States
END:VEVENT
BEGIN:VEVENT
DTSTART;VALUE=DATE:20300308
DTEND;VALUE=DATE:20300309
DTSTAMP:20260425T171005
CREATED:20241108T174315Z
LAST-MODIFIED:20241108T174315Z
UID:10000307-1899158400-1899241199@aleutcorp.com
SUMMARY:International Women's Day
DESCRIPTION:
URL:https://aleutcorp.com/calendar/international-womens-day-2/2030-03-08/
CATEGORIES:Holidays
END:VEVENT
BEGIN:VEVENT
DTSTART;VALUE=DATE:20300310
DTEND;VALUE=DATE:20300311
DTSTAMP:20260425T171005
CREATED:20241108T174529Z
LAST-MODIFIED:20241108T174529Z
UID:10000308-1899331200-1899413999@aleutcorp.com
SUMMARY:Daylight Savings Begins (Spring Forward)
DESCRIPTION:
URL:https://aleutcorp.com/calendar/daylight-savings-begins-spring-forward-2/2030-03-10/
CATEGORIES:Holidays
END:VEVENT
BEGIN:VEVENT
DTSTART;VALUE=DATE:20300317
DTEND;VALUE=DATE:20300318
DTSTAMP:20260425T171005
CREATED:20241108T175311Z
LAST-MODIFIED:20241108T175311Z
UID:10000309-1899936000-1900022399@aleutcorp.com
SUMMARY:St. Patrick's Day
DESCRIPTION:
URL:https://aleutcorp.com/calendar/st-patricks-day-2/2030-03-17/
CATEGORIES:Holidays
END:VEVENT
BEGIN:VEVENT
DTSTART;VALUE=DATE:20300401
DTEND;VALUE=DATE:20300402
DTSTAMP:20260425T171005
CREATED:20241108T183820Z
LAST-MODIFIED:20241108T183844Z
UID:10000310-1901232000-1901318399@aleutcorp.com
SUMMARY:April Fool's Day
DESCRIPTION:
URL:https://aleutcorp.com/calendar/april-fools-day-2/2030-04-01/
CATEGORIES:Holidays
END:VEVENT
BEGIN:VEVENT
DTSTART;VALUE=DATE:20300527
DTEND;VALUE=DATE:20300528
DTSTAMP:20260425T171005
CREATED:20241114T180152Z
LAST-MODIFIED:20241114T191410Z
UID:10000312-1906070400-1906156799@aleutcorp.com
SUMMARY:Memorial Day - Aleut Offices Closed
DESCRIPTION:
URL:https://aleutcorp.com/calendar/memorial-day-aleut-offices-closed/2030-05-27/
LOCATION:The Aleut Corporation\, 2550 Denali St.\, Ste. 1050\, Anchorage\, AK\, 99503\, United States
CATEGORIES:Holidays
END:VEVENT
END:VCALENDAR