BEGIN:VCALENDAR
VERSION:2.0
PRODID:-//Aleut Corporation - ECPv6.15.17.1//NONSGML v1.0//EN
CALSCALE:GREGORIAN
METHOD:PUBLISH
X-WR-CALNAME:Aleut Corporation
X-ORIGINAL-URL:https://aleutcorp.com
X-WR-CALDESC:Events for Aleut Corporation
REFRESH-INTERVAL;VALUE=DURATION:PT1H
X-Robots-Tag:noindex
X-PUBLISHED-TTL:PT1H
BEGIN:VTIMEZONE
TZID:America/Anchorage
BEGIN:DAYLIGHT
TZOFFSETFROM:-0900
TZOFFSETTO:-0800
TZNAME:AKDT
DTSTART:20270314T110000
END:DAYLIGHT
BEGIN:STANDARD
TZOFFSETFROM:-0800
TZOFFSETTO:-0900
TZNAME:AKST
DTSTART:20271107T100000
END:STANDARD
BEGIN:DAYLIGHT
TZOFFSETFROM:-0900
TZOFFSETTO:-0800
TZNAME:AKDT
DTSTART:20280312T110000
END:DAYLIGHT
BEGIN:STANDARD
TZOFFSETFROM:-0800
TZOFFSETTO:-0900
TZNAME:AKST
DTSTART:20281105T100000
END:STANDARD
BEGIN:DAYLIGHT
TZOFFSETFROM:-0900
TZOFFSETTO:-0800
TZNAME:AKDT
DTSTART:20290311T110000
END:DAYLIGHT
BEGIN:STANDARD
TZOFFSETFROM:-0800
TZOFFSETTO:-0900
TZNAME:AKST
DTSTART:20291104T100000
END:STANDARD
END:VTIMEZONE
BEGIN:VEVENT
DTSTART;VALUE=DATE:20280214
DTEND;VALUE=DATE:20280215
DTSTAMP:20260424T000723
CREATED:20241108T165942Z
LAST-MODIFIED:20241108T173241Z
UID:10000144-1834099200-1834185599@aleutcorp.com
SUMMARY:Valentine's Day
DESCRIPTION:
URL:https://aleutcorp.com/calendar/valentines-day-2/2028-02-14/
LOCATION:AK
CATEGORIES:Holidays
END:VEVENT
BEGIN:VEVENT
DTSTART;VALUE=DATE:20280216
DTEND;VALUE=DATE:20280217
DTSTAMP:20260424T000723
CREATED:20241108T170149Z
LAST-MODIFIED:20241108T174144Z
UID:10000154-1834272000-1834358399@aleutcorp.com
SUMMARY:Elizabeth Peratrovich Day
DESCRIPTION:
URL:https://aleutcorp.com/calendar/elizabeth-peratrovich-day-2/2028-02-16/
LOCATION:AK
CATEGORIES:Holidays
END:VEVENT
BEGIN:VEVENT
DTSTART;VALUE=DATE:20280221
DTEND;VALUE=DATE:20280222
DTSTAMP:20260424T000723
CREATED:20241108T175057Z
LAST-MODIFIED:20241108T175057Z
UID:10000169-1834704000-1834790399@aleutcorp.com
SUMMARY:Presidents Day - Aleut Offices Closed
DESCRIPTION:
URL:https://aleutcorp.com/calendar/presidents-day-aleut-offices-closed/2028-02-21/
LOCATION:The Aleut Corporation\, 2550 Denali St.\, Ste. 1050\, Anchorage\, AK\, 99503\, United States
END:VEVENT
END:VCALENDAR