BEGIN:VCALENDAR
VERSION:2.0
PRODID:-//Aleut Corporation - ECPv6.15.17.1//NONSGML v1.0//EN
CALSCALE:GREGORIAN
METHOD:PUBLISH
X-ORIGINAL-URL:https://aleutcorp.com
X-WR-CALDESC:Events for Aleut Corporation
REFRESH-INTERVAL;VALUE=DURATION:PT1H
X-Robots-Tag:noindex
X-PUBLISHED-TTL:PT1H
BEGIN:VTIMEZONE
TZID:America/Anchorage
BEGIN:DAYLIGHT
TZOFFSETFROM:-0900
TZOFFSETTO:-0800
TZNAME:AKDT
DTSTART:20270314T110000
END:DAYLIGHT
BEGIN:STANDARD
TZOFFSETFROM:-0800
TZOFFSETTO:-0900
TZNAME:AKST
DTSTART:20271107T100000
END:STANDARD
BEGIN:DAYLIGHT
TZOFFSETFROM:-0900
TZOFFSETTO:-0800
TZNAME:AKDT
DTSTART:20280312T110000
END:DAYLIGHT
BEGIN:STANDARD
TZOFFSETFROM:-0800
TZOFFSETTO:-0900
TZNAME:AKST
DTSTART:20281105T100000
END:STANDARD
BEGIN:DAYLIGHT
TZOFFSETFROM:-0900
TZOFFSETTO:-0800
TZNAME:AKDT
DTSTART:20290311T110000
END:DAYLIGHT
BEGIN:STANDARD
TZOFFSETFROM:-0800
TZOFFSETTO:-0900
TZNAME:AKST
DTSTART:20291104T100000
END:STANDARD
END:VTIMEZONE
BEGIN:VEVENT
DTSTART;VALUE=DATE:20280312
DTEND;VALUE=DATE:20280313
DTSTAMP:20260424T030319
CREATED:20241108T174529Z
LAST-MODIFIED:20241108T174529Z
UID:10000164-1836432000-1836514799@aleutcorp.com
SUMMARY:Daylight Savings Begins (Spring Forward)
DESCRIPTION:
URL:https://aleutcorp.com/calendar/daylight-savings-begins-spring-forward-2/2028-03-12/
LOCATION:AK
CATEGORIES:Holidays
END:VEVENT
BEGIN:VEVENT
DTSTART;VALUE=DATE:20280317
DTEND;VALUE=DATE:20280318
DTSTAMP:20260424T030320
CREATED:20241108T175311Z
LAST-MODIFIED:20241108T175311Z
UID:10000174-1836864000-1836950399@aleutcorp.com
SUMMARY:St. Patrick's Day
DESCRIPTION:
URL:https://aleutcorp.com/calendar/st-patricks-day-2/2028-03-17/
LOCATION:AK
CATEGORIES:Holidays
END:VEVENT
BEGIN:VEVENT
DTSTART;VALUE=DATE:20280401
DTEND;VALUE=DATE:20280402
DTSTAMP:20260424T030320
CREATED:20241108T183820Z
LAST-MODIFIED:20241108T183844Z
UID:10000184-1838160000-1838246399@aleutcorp.com
SUMMARY:April Fool's Day
DESCRIPTION:
URL:https://aleutcorp.com/calendar/april-fools-day-2/2028-04-01/
LOCATION:AK
CATEGORIES:Holidays
END:VEVENT
END:VCALENDAR