BEGIN:VCALENDAR
VERSION:2.0
PRODID:-//Aleut Corporation - ECPv6.15.17.1//NONSGML v1.0//EN
CALSCALE:GREGORIAN
METHOD:PUBLISH
X-WR-CALNAME:Aleut Corporation
X-ORIGINAL-URL:https://aleutcorp.com
X-WR-CALDESC:Events for Aleut Corporation
REFRESH-INTERVAL;VALUE=DURATION:PT1H
X-Robots-Tag:noindex
X-PUBLISHED-TTL:PT1H
BEGIN:VTIMEZONE
TZID:America/Anchorage
BEGIN:DAYLIGHT
TZOFFSETFROM:-0900
TZOFFSETTO:-0800
TZNAME:AKDT
DTSTART:20250309T110000
END:DAYLIGHT
BEGIN:STANDARD
TZOFFSETFROM:-0800
TZOFFSETTO:-0900
TZNAME:AKST
DTSTART:20251102T100000
END:STANDARD
BEGIN:DAYLIGHT
TZOFFSETFROM:-0900
TZOFFSETTO:-0800
TZNAME:AKDT
DTSTART:20260308T110000
END:DAYLIGHT
BEGIN:STANDARD
TZOFFSETFROM:-0800
TZOFFSETTO:-0900
TZNAME:AKST
DTSTART:20261101T100000
END:STANDARD
BEGIN:DAYLIGHT
TZOFFSETFROM:-0900
TZOFFSETTO:-0800
TZNAME:AKDT
DTSTART:20270314T110000
END:DAYLIGHT
BEGIN:STANDARD
TZOFFSETFROM:-0800
TZOFFSETTO:-0900
TZNAME:AKST
DTSTART:20271107T100000
END:STANDARD
END:VTIMEZONE
BEGIN:VEVENT
DTSTART;VALUE=DATE:20261101
DTEND;VALUE=DATE:20261102
DTSTAMP:20260423T124412
CREATED:20241114T200628Z
LAST-MODIFIED:20241114T200628Z
UID:10000258-1793491200-1793577599@aleutcorp.com
SUMMARY:Daylight Savings Ends (Fall Back)
DESCRIPTION:
URL:https://aleutcorp.com/calendar/daylight-savings-ends-fall-back/2026-11-01/
LOCATION:WA
CATEGORIES:Events
END:VEVENT
BEGIN:VEVENT
DTSTART;VALUE=DATE:20261111
DTEND;VALUE=DATE:20261112
DTSTAMP:20260423T124412
CREATED:20241114T200717Z
LAST-MODIFIED:20241114T200730Z
UID:10000263-1794355200-1794441599@aleutcorp.com
SUMMARY:Veterans Day - Aleut Offices Closed
DESCRIPTION:
URL:https://aleutcorp.com/calendar/veterans-day-aleut-offices-closed/2026-11-11/
LOCATION:The Aleut Corporation\, 2550 Denali St.\, Ste. 1050\, Anchorage\, AK\, 99503\, United States
CATEGORIES:Holidays
END:VEVENT
BEGIN:VEVENT
DTSTART;VALUE=DATE:20261126
DTEND;VALUE=DATE:20261127
DTSTAMP:20260423T124412
CREATED:20230816T192843Z
LAST-MODIFIED:20240723T215743Z
UID:10000099-1795651200-1795737599@aleutcorp.com
SUMMARY:Thanksgiving - Aleut Offices Closed
DESCRIPTION:Aleut Offices Closed Thursday 11/28 – Friday 11/29.
URL:https://aleutcorp.com/calendar/thanksgiving/2026-11-26/
LOCATION:WA
CATEGORIES:Holidays
END:VEVENT
END:VCALENDAR