BEGIN:VCALENDAR
VERSION:2.0
PRODID:-//Aleut Corporation - ECPv6.15.17.1//NONSGML v1.0//EN
CALSCALE:GREGORIAN
METHOD:PUBLISH
X-WR-CALNAME:Aleut Corporation
X-ORIGINAL-URL:https://aleutcorp.com
X-WR-CALDESC:Events for Aleut Corporation
REFRESH-INTERVAL;VALUE=DURATION:PT1H
X-Robots-Tag:noindex
X-PUBLISHED-TTL:PT1H
BEGIN:VTIMEZONE
TZID:America/Anchorage
BEGIN:DAYLIGHT
TZOFFSETFROM:-0900
TZOFFSETTO:-0800
TZNAME:AKDT
DTSTART:20250309T110000
END:DAYLIGHT
BEGIN:STANDARD
TZOFFSETFROM:-0800
TZOFFSETTO:-0900
TZNAME:AKST
DTSTART:20251102T100000
END:STANDARD
BEGIN:DAYLIGHT
TZOFFSETFROM:-0900
TZOFFSETTO:-0800
TZNAME:AKDT
DTSTART:20260308T110000
END:DAYLIGHT
BEGIN:STANDARD
TZOFFSETFROM:-0800
TZOFFSETTO:-0900
TZNAME:AKST
DTSTART:20261101T100000
END:STANDARD
BEGIN:DAYLIGHT
TZOFFSETFROM:-0900
TZOFFSETTO:-0800
TZNAME:AKDT
DTSTART:20270314T110000
END:DAYLIGHT
BEGIN:STANDARD
TZOFFSETFROM:-0800
TZOFFSETTO:-0900
TZNAME:AKST
DTSTART:20271107T100000
END:STANDARD
BEGIN:DAYLIGHT
TZOFFSETFROM:-0900
TZOFFSETTO:-0800
TZNAME:AKDT
DTSTART:20280312T110000
END:DAYLIGHT
BEGIN:STANDARD
TZOFFSETFROM:-0800
TZOFFSETTO:-0900
TZNAME:AKST
DTSTART:20281105T100000
END:STANDARD
BEGIN:DAYLIGHT
TZOFFSETFROM:-0900
TZOFFSETTO:-0800
TZNAME:AKDT
DTSTART:20290311T110000
END:DAYLIGHT
BEGIN:STANDARD
TZOFFSETFROM:-0800
TZOFFSETTO:-0900
TZNAME:AKST
DTSTART:20291104T100000
END:STANDARD
BEGIN:DAYLIGHT
TZOFFSETFROM:-0900
TZOFFSETTO:-0800
TZNAME:AKDT
DTSTART:20300310T110000
END:DAYLIGHT
BEGIN:STANDARD
TZOFFSETFROM:-0800
TZOFFSETTO:-0900
TZNAME:AKST
DTSTART:20301103T100000
END:STANDARD
END:VTIMEZONE
BEGIN:VEVENT
DTSTART;VALUE=DATE:20261012
DTEND;VALUE=DATE:20261013
DTSTAMP:20260423T002830
CREATED:20241114T195459Z
LAST-MODIFIED:20241114T195459Z
UID:10000247-1791763200-1791849599@aleutcorp.com
SUMMARY:Indigenous Peoples' Day - Aleut Offices Closed
DESCRIPTION:
URL:https://aleutcorp.com/calendar/indigenous-peoples-day-aleut-offices-closed/2026-10-12/
LOCATION:The Aleut Corporation\, 2550 Denali St.\, Ste. 1050\, Anchorage\, AK\, 99503\, United States
CATEGORIES:Holidays
END:VEVENT
BEGIN:VEVENT
DTSTART;VALUE=DATE:20271011
DTEND;VALUE=DATE:20271012
DTSTAMP:20260423T002830
CREATED:20241114T195459Z
LAST-MODIFIED:20241114T195459Z
UID:10000248-1823212800-1823299199@aleutcorp.com
SUMMARY:Indigenous Peoples' Day - Aleut Offices Closed
DESCRIPTION:
URL:https://aleutcorp.com/calendar/indigenous-peoples-day-aleut-offices-closed/2027-10-11/
LOCATION:The Aleut Corporation\, 2550 Denali St.\, Ste. 1050\, Anchorage\, AK\, 99503\, United States
CATEGORIES:Holidays
END:VEVENT
BEGIN:VEVENT
DTSTART;VALUE=DATE:20281009
DTEND;VALUE=DATE:20281010
DTSTAMP:20260423T002830
CREATED:20241114T195459Z
LAST-MODIFIED:20241114T195459Z
UID:10000249-1854662400-1854748799@aleutcorp.com
SUMMARY:Indigenous Peoples' Day - Aleut Offices Closed
DESCRIPTION:
URL:https://aleutcorp.com/calendar/indigenous-peoples-day-aleut-offices-closed/2028-10-09/
LOCATION:The Aleut Corporation\, 2550 Denali St.\, Ste. 1050\, Anchorage\, AK\, 99503\, United States
CATEGORIES:Holidays
END:VEVENT
BEGIN:VEVENT
DTSTART;VALUE=DATE:20291008
DTEND;VALUE=DATE:20291009
DTSTAMP:20260423T002830
CREATED:20241114T195459Z
LAST-MODIFIED:20241114T195459Z
UID:10000250-1886112000-1886198399@aleutcorp.com
SUMMARY:Indigenous Peoples' Day - Aleut Offices Closed
DESCRIPTION:
URL:https://aleutcorp.com/calendar/indigenous-peoples-day-aleut-offices-closed/2029-10-08/
LOCATION:The Aleut Corporation\, 2550 Denali St.\, Ste. 1050\, Anchorage\, AK\, 99503\, United States
CATEGORIES:Holidays
END:VEVENT
END:VCALENDAR